BEGIN:VCALENDAR
VERSION:2.0
PRODID:-//ЭРҮҮЛ ҮРС гэрэлт ирээдүй ТББ - ECPv5.3.1.1//NONSGML v1.0//EN
CALSCALE:GREGORIAN
METHOD:PUBLISH
X-WR-CALNAME:ЭРҮҮЛ ҮРС гэрэлт ирээдүй ТББ
X-ORIGINAL-URL:https://www.saveinfants.mn
X-WR-CALDESC:Events for ЭРҮҮЛ ҮРС гэрэлт ирээдүй ТББ
BEGIN:VTIMEZONE
TZID:UTC
BEGIN:STANDARD
TZOFFSETFROM:+0000
TZOFFSETTO:+0000
TZNAME:UTC
DTSTART:20150101T000000
END:STANDARD
END:VTIMEZONE
BEGIN:VEVENT
DTSTART;VALUE=DATE:20150413
DTEND;VALUE=DATE:20150602
DTSTAMP:20260421T160613
CREATED:20150429T185125Z
LAST-MODIFIED:20150507T181906Z
UID:3402-1428883200-1433203199@www.saveinfants.mn
SUMMARY:#Сахалтайсэлфи
DESCRIPTION:Та бүгдийг ‪#‎Сахалтайсэлфи‬ аянд нэгдэхийг урьж байна!\n2015 оны Хүүхдийн баяраар Мандал сумын нярайн тасагт төхөөрөмж бэлэглэх төсөлд зориулан энэхүү хөгжилтэй аян ФБ-д явагдаж эхэллээ. Та ч бас оролцоорой! \n#Сахалтайсэлфи-д оролцохдоо хэдэн ч найзыгаа уриалж болно\, мөн өглөгийн дүн хэд ч байж болно. Одоогийн байдлаар 4-р сарын 13-aaс хойш 16 оролцогч\, нийт 1\,035\,000 төгрөг хандивлаад байна. Маш их баярлалаа! \nXандивын дансны дугаар: 1105039384\nГоломт Банк\nХүлээн авагч: Эрүүл Үрс Гэрэлт Ирээдүй ТББ
URL:https://www.saveinfants.mn/?tribe_events=%d1%81%d0%b0%d1%85%d0%b0%d0%bb%d1%82%d0%b0%d0%b9%d1%81%d1%8d%d0%bb%d1%84%d0%b8
ORGANIZER;CN="%D0%AD%D1%80%D2%AF%D2%AF%D0%BB%20%D2%AE%D1%80%D1%81%20%D0%93%D1%8D%D1%80%D1%8D%D0%BB%D1%82%20%D0%98%D1%80%D1%8D%D1%8D%D0%B4%D2%AF%D0%B9%20%D0%A2%D0%91%D0%91":MAILTO:info@saveinfants.mn
END:VEVENT
END:VCALENDAR