BEGIN:VCALENDAR
VERSION:2.0
PRODID:-//ЭРҮҮЛ ҮРС гэрэлт ирээдүй ТББ - ECPv5.3.1.1//NONSGML v1.0//EN
CALSCALE:GREGORIAN
METHOD:PUBLISH
X-WR-CALNAME:ЭРҮҮЛ ҮРС гэрэлт ирээдүй ТББ
X-ORIGINAL-URL:https://www.saveinfants.mn
X-WR-CALDESC:Events for ЭРҮҮЛ ҮРС гэрэлт ирээдүй ТББ
BEGIN:VTIMEZONE
TZID:UTC
BEGIN:STANDARD
TZOFFSETFROM:+0000
TZOFFSETTO:+0000
TZNAME:UTC
DTSTART:20140101T000000
END:STANDARD
END:VTIMEZONE
BEGIN:VEVENT
DTSTART;VALUE=DATE:20141112
DTEND;VALUE=DATE:20150101
DTSTAMP:20260421T105202
CREATED:20141112T001130Z
LAST-MODIFIED:20141211T191950Z
UID:3186-1415750400-1420070399@www.saveinfants.mn
SUMMARY:Хүүхдийг түлэгдэлтээс урьдчилан сэргийлэх хөтөлбөр
DESCRIPTION:Эрүүл Үрс Гэрэлт Ирээдүй ТББ-ын 2014-2015 онд хэрэгжүүлж буй “Хүүхдийг түлэгдэлтээс урьдчилан сэргийлэх хөтөлбөр”-ийн хүрээнд эдгээр зурагт хуудасыг А2 хэмжээтэйгээр 5000 ширхэг хэвлүүлэн хот ба орон нутгийн эмнэлэг\, сургууль\, цэцэрлэгт түгээх ажил явагдаж байна. Үүнд “Дэлхийн Зөн” Олон улсын байгуулага\, хотын дүүргүүдийн болон бүх аймгийн яаралтай тусламжийн эмч нар оролцож буйд талархал илэрхийлье! \nТараах зурагт хуудас нь:\n1) Хүүхдийг түлэгдэлтээс урьдчилан сэргийлэх аргууд\n2) Ахуйн түлэгдэлтийн үед үзүүлэх анхны тусламж\nгэсэн 2 янз байна. \nЖич: Үлдсэн зурагт хуудасыг хэрэгцээтэй газарт хүргэх\, улсын болон хувийн сургууль\, цэцэрлэг\, дэлгүүр\, үйлчилгээний газарт байрлуулахыг хүсвэл бидэнтэй холбогдож үнэ төлбөргүй авна уу. Холбогдох утас: 99786832.
URL:https://www.saveinfants.mn/?tribe_events=%d1%85%d2%af%d2%af%d1%85%d0%b4%d0%b8%d0%b9%d0%b3-%d1%82%d2%af%d0%bb%d1%8d%d0%b3%d0%b4%d1%8d%d0%bb%d1%82%d1%8d%d1%8d%d1%81-%d1%83%d1%80%d1%8c%d0%b4%d1%87%d0%b8%d0%bb%d0%b0%d0%bd-%d1%81%d1%8d%d1%80
ORGANIZER;CN="%D0%AD%D1%80%D2%AF%D2%AF%D0%BB%20%D2%AE%D1%80%D1%81%20%D0%93%D1%8D%D1%80%D1%8D%D0%BB%D1%82%20%D0%98%D1%80%D1%8D%D1%8D%D0%B4%D2%AF%D0%B9%20%D0%A2%D0%91%D0%91":MAILTO:info@saveinfants.mn
END:VEVENT
END:VCALENDAR