BEGIN:VCALENDAR
VERSION:2.0
PRODID:-//ЭРҮҮЛ ҮРС гэрэлт ирээдүй ТББ - ECPv5.3.1.1//NONSGML v1.0//EN
CALSCALE:GREGORIAN
METHOD:PUBLISH
X-WR-CALNAME:ЭРҮҮЛ ҮРС гэрэлт ирээдүй ТББ
X-ORIGINAL-URL:https://www.saveinfants.mn
X-WR-CALDESC:Events for ЭРҮҮЛ ҮРС гэрэлт ирээдүй ТББ
BEGIN:VTIMEZONE
TZID:UTC
BEGIN:STANDARD
TZOFFSETFROM:+0000
TZOFFSETTO:+0000
TZNAME:UTC
DTSTART:20140101T000000
END:STANDARD
END:VTIMEZONE
BEGIN:VEVENT
DTSTART;VALUE=DATE:20141210
DTEND;VALUE=DATE:20150311
DTSTAMP:20260421T125722
CREATED:20141211T191301Z
LAST-MODIFIED:20150319T020230Z
UID:3217-1418169600-1426031999@www.saveinfants.mn
SUMMARY:2015 оны ханын хуанлийн борлуулалт явагдаж байна.
DESCRIPTION:2015 оны шинэ хуанли нь “Мэргэжил бүхэн сайхан” гэсэн сэдэвтэй бөгөөд хөөрхөн дүү нар маань эмч\, тогооч\, гал сөнөөгч болж зургаа авахууллаа. Та бүхэн “Хүүхдийг түлэгдлээс урьдчилан сэргийлэх хөтөлбөр”-т зориулсан энэхүү хуанлийг 6000 төгрөгөөр худалдан авна уу. \nЭнэхүү хуанлийн ашиг монгол хүүхэд эх орондоо эмчлүүлж эдгэрэх\, эрүүл чийрэг өсөн торних боломжийг сайжруулах зорилготой төсөлд 100% зориулагдана. Олон мянган хүүхдийн амь нас\, эрүүл мэндийн төлөөх төсөлд үнэтэй хувь нэмэр оруулж байгаад талархал илэрхийлье! \n \nБайршил: \n1-р сургуулийн урд MCS plaza. Утас: 99137083\nНҮБ-ийн байр. Утас: 99062992\nХөгжим бүжгийн замын урд ESP Foundation. Утас: 99180984 \nТаваас дээш тоогоор авах бол хүргэж өгнө. Утас: 99786832. \n  \nXэрэгжүүлж буй төслөө дэмжих\, суртaлчилах зорилгоор “Эрүүл Үрс Гэрэлт Ирээдүй” ТББ-ын зүгээс жил бүр ханын хуанли гаргадаг билээ. Үндэсний хувцастай хөөрхөн хүүхдүүдийн гэрэл зургаар чимсэн 2014 оны хуанлийн орлого болох 3 сая төгрөгийг Хүүхдийн эмнэлэгийн мэс заслын тасагт 53 сая төгрөгийн үнэтэй амьсгалын аппарат бэлэглэхэд нэмэрлэсэн юм. \nМонголын Үрс эрүүл байг!
URL:https://www.saveinfants.mn/?tribe_events=2015-%d0%be%d0%bd%d1%8b-%d1%85%d0%b0%d0%bd%d1%8b%d0%bd-%d1%85%d1%83%d0%b0%d0%bd%d0%bb%d0%b8%d0%b9%d0%bd-%d0%b1%d0%be%d1%80%d0%bb%d1%83%d1%83%d0%bb%d0%b0%d0%bb%d1%82-%d1%8f%d0%b2%d0%b0%d0%b3%d0%b4
ORGANIZER;CN="%D0%AD%D1%80%D2%AF%D2%AF%D0%BB%20%D2%AE%D1%80%D1%81%20%D0%93%D1%8D%D1%80%D1%8D%D0%BB%D1%82%20%D0%98%D1%80%D1%8D%D1%8D%D0%B4%D2%AF%D0%B9%20%D0%A2%D0%91%D0%91":MAILTO:info@saveinfants.mn
END:VEVENT
END:VCALENDAR